BEGIN:VCALENDAR
VERSION:2.0
PRODID:-//Washington Public Ports Association (WPPA) - ECPv6.15.20//NONSGML v1.0//EN
CALSCALE:GREGORIAN
METHOD:PUBLISH
X-WR-CALNAME:Washington Public Ports Association (WPPA)
X-ORIGINAL-URL:https://www.washingtonports.org
X-WR-CALDESC:Events for Washington Public Ports Association (WPPA)
REFRESH-INTERVAL;VALUE=DURATION:PT1H
X-Robots-Tag:noindex
X-PUBLISHED-TTL:PT1H
BEGIN:VTIMEZONE
TZID:America/Los_Angeles
BEGIN:DAYLIGHT
TZOFFSETFROM:-0800
TZOFFSETTO:-0700
TZNAME:PDT
DTSTART:20240310T100000
END:DAYLIGHT
BEGIN:STANDARD
TZOFFSETFROM:-0700
TZOFFSETTO:-0800
TZNAME:PST
DTSTART:20241103T090000
END:STANDARD
BEGIN:DAYLIGHT
TZOFFSETFROM:-0800
TZOFFSETTO:-0700
TZNAME:PDT
DTSTART:20250309T100000
END:DAYLIGHT
BEGIN:STANDARD
TZOFFSETFROM:-0700
TZOFFSETTO:-0800
TZNAME:PST
DTSTART:20251102T090000
END:STANDARD
BEGIN:DAYLIGHT
TZOFFSETFROM:-0800
TZOFFSETTO:-0700
TZNAME:PDT
DTSTART:20260308T100000
END:DAYLIGHT
BEGIN:STANDARD
TZOFFSETFROM:-0700
TZOFFSETTO:-0800
TZNAME:PST
DTSTART:20261101T090000
END:STANDARD
END:VTIMEZONE
BEGIN:VEVENT
DTSTART;TZID=America/Los_Angeles:20250603T120000
DTEND;TZID=America/Los_Angeles:20250603T130000
DTSTAMP:20260420T031806
CREATED:20250523T220334Z
LAST-MODIFIED:20250523T220355Z
UID:10000012-1748952000-1748955600@www.washingtonports.org
SUMMARY:Virtual Lunch & Learn: The Do's & Don'ts of Communicating About TIF
DESCRIPTION:The WPPA Communications Committee is holding a Lunch & Learn on Tax Increment Financing (TIF). We hope you will join us to learn the dos and don’ts when it comes to the communication side of TIF. Our speakers have firsthand experience and want to share their tips with you! Please click here to get signed up for our June 3rd event. If you have any questions\, contact Mandy Lill.
URL:https://www.washingtonports.org/event/virtual-lunch-learn-the-dos-donts-of-communicating-about-tif/
ATTACH;FMTTYPE=image/jpeg:https://www.washingtonports.org/wp-content/uploads/2025/05/LL-06.04.2025-Flyer.jpg
END:VEVENT
END:VCALENDAR