BEGIN:VCALENDAR
VERSION:2.0
PRODID:-//Washington Public Ports Association (WPPA) - ECPv6.15.20//NONSGML v1.0//EN
CALSCALE:GREGORIAN
METHOD:PUBLISH
X-ORIGINAL-URL:https://www.washingtonports.org
X-WR-CALDESC:Events for Washington Public Ports Association (WPPA)
REFRESH-INTERVAL;VALUE=DURATION:PT1H
X-Robots-Tag:noindex
X-PUBLISHED-TTL:PT1H
BEGIN:VTIMEZONE
TZID:America/Los_Angeles
BEGIN:DAYLIGHT
TZOFFSETFROM:-0800
TZOFFSETTO:-0700
TZNAME:PDT
DTSTART:20240310T100000
END:DAYLIGHT
BEGIN:STANDARD
TZOFFSETFROM:-0700
TZOFFSETTO:-0800
TZNAME:PST
DTSTART:20241103T090000
END:STANDARD
BEGIN:DAYLIGHT
TZOFFSETFROM:-0800
TZOFFSETTO:-0700
TZNAME:PDT
DTSTART:20250309T100000
END:DAYLIGHT
BEGIN:STANDARD
TZOFFSETFROM:-0700
TZOFFSETTO:-0800
TZNAME:PST
DTSTART:20251102T090000
END:STANDARD
BEGIN:DAYLIGHT
TZOFFSETFROM:-0800
TZOFFSETTO:-0700
TZNAME:PDT
DTSTART:20260308T100000
END:DAYLIGHT
BEGIN:STANDARD
TZOFFSETFROM:-0700
TZOFFSETTO:-0800
TZNAME:PST
DTSTART:20261101T090000
END:STANDARD
BEGIN:DAYLIGHT
TZOFFSETFROM:-0800
TZOFFSETTO:-0700
TZNAME:PDT
DTSTART:20270314T100000
END:DAYLIGHT
BEGIN:STANDARD
TZOFFSETFROM:-0700
TZOFFSETTO:-0800
TZNAME:PST
DTSTART:20271107T090000
END:STANDARD
END:VTIMEZONE
BEGIN:VEVENT
DTSTART;TZID=America/Los_Angeles:20260205T170000
DTEND;TZID=America/Los_Angeles:20260206T160000
DTSTAMP:20260425T064035
CREATED:20251027T192805Z
LAST-MODIFIED:20260206T142643Z
UID:10000023-1770310800-1770393600@www.washingtonports.org
SUMMARY:2026 Port Day
DESCRIPTION:No Registration Required\n\nThursday\, February 5 – Ports & Maritime Reception\n5:00 – 8:00 pm – Uptown Grill\, 516 Capitol Way So\, Olympia \n\nFriday\, February 6 – Port Day at the Capitol\nPort Day 2026 – Click Here for Draft Agenda\n**Breakfast\, Lunch\, and the Main Program Will be Held in the Columbia Room of the Legislative Building** \n\n**WPPA is unable to offer parking at the Ports Building\, as our spaces are limited\, and reserved for tenants.\nWe encourage visitors to review available parking options on the campus map and recommend arriving early to secure a spot nearby.**\n\nPlease reach out to Mandy Lill if you have any questions.
URL:https://www.washingtonports.org/event/2026-port-day/
LOCATION:Capitol Building\, 416 Sid Snyder Avenue Southwest\, Olympia\, WA\, 98501\, United States
ATTACH;FMTTYPE=image/jpeg:https://www.washingtonports.org/wp-content/uploads/2025/01/CapitolApril2023-2.jpg
END:VEVENT
BEGIN:VEVENT
DTSTART;TZID=America/Los_Angeles:20250130T070000
DTEND;TZID=America/Los_Angeles:20250130T130000
DTSTAMP:20260425T064035
CREATED:20250114T191839Z
LAST-MODIFIED:20250227T173457Z
UID:10000009-1738220400-1738242000@www.washingtonports.org
SUMMARY:2025 Port Day
DESCRIPTION:NO REGISTRATION REQUIRED\n\n\n\n\n\n\n\n\n\n\n\nWEDNESDAY\, JANUARY 29TH\nPORTS AND MARITIME RECEPTION\n5:00 – 8:00 pm – Open House Reception at: Heritage Distilling – 4200 Capitol Blvd SE Suite 104\, Tumwater\, WA 98501\nFeaturing Pacific Northwest Seafood and Co-Hosted By The Washington Maritime Federation \n\n\n\n\n\n\n\n\n\n\n\nTHURSDAY\, JANUARY 30TH\nPORT DAY AT THE CAPITOL\n\n\n\n\n\nDOWNLOAD OUR AGENDA FOR SPEAKER DETAILS\n\n\n\n\n\n**Breakfast\, Lunch\, And The Main Program Will Be Held In The Columbia Room Of The Legislative Building** \n7:30 – 9:00 am – Coffee and Pastries\, Welcome Remarks\, Introductions\, Legislative Speakers \n9:00 – 11:45 am – Meetings With Your Legislators on Your Own\n(you must make appointments with your legislators in advance – you can find their contact information HERE) \n11:45 am – 1:30 pm – Lunch\, Legislative Speakers\, Debrief \n1:30 – 4:00 pm – Meetings on Your Own \n** PLEASE NOTE THAT WPPA IS NOT ABLE TO PROVIDE ANY PARKING AT THE PORT BUILDING. OUR PARKING SPACES ARE LIMITED AND RENTED TO OUR TENANTS. YOU CAN VIEW PARKING OPTIONS HERE ON THE CAMPUS MAP. WE RECOMMEND ARRIVING EARLY TO FIND A DECENT SPOT.\n\n\n\n\n\n\n\n\n\n\n\nPlease reach out to Mandy Lill if you have any questions.
URL:https://www.washingtonports.org/event/2025-port-day/
LOCATION:Capitol Building\, 416 Sid Snyder Avenue Southwest\, Olympia\, WA\, 98501\, United States
ATTACH;FMTTYPE=image/jpeg:https://www.washingtonports.org/wp-content/uploads/2025/01/CapitolApril2023-2.jpg
END:VEVENT
END:VCALENDAR